BEGIN:VCALENDAR
VERSION:2.0
PRODID:-//eventon.com NONSGML v1.0//EN
BEGIN:VEVENT
UID:69e5eb95a9d1d
DTSTAMP:20260420T050213
DTSTART:20200117
DTEND:20200119
TZID:UTC
LOCATION:Gatineau\,  QC Gatineau\,  QC
SUMMARY:5e Conférence Inspire Hope 2020 (Conférence pour insuffler l’espoir)
DESCRIPTION: 5e Conférence Inspire Hope 2020 (Conférence pour insuffler l’espoir)\nhttps://cngov.ca/events/5th-inspire-hope-conference/
URL:https://cngov.ca/events/5th-inspire-hope-conference/
END:VEVENT
END:VCALENDAR