BEGIN:VCALENDAR
VERSION:2.0
PRODID:-//eventon.com NONSGML v1.0//EN
BEGIN:VEVENT
UID:69e821a40ae41
DTSTAMP:20260421T211724
DTSTART:20190723T090000Z
DTEND:20190725T170000Z
TZID:UTC
LOCATION:Mistissini\,  QC Mistissini\,  QC 
SUMMARY:Maamuu Uhpichinauusuutauu Regional Conference
DESCRIPTION: Maamuu Uhpichinauusuutauu Regional Conference\nhttps://cngov.ca/fr/events/maamuu-uhpichinauusuutauu-regional-conference/
URL:https://cngov.ca/fr/events/maamuu-uhpichinauusuutauu-regional-conference/
END:VEVENT
END:VCALENDAR