BEGIN:VCALENDAR
VERSION:2.0
PRODID:-//eventon.com NONSGML v1.0//EN
BEGIN:VEVENT
UID:69eca4f2b3ae1
DTSTAMP:20260425T072642
DTSTART:20250326
DTEND:20250327
TZID:America/Montreal
LOCATION:Mistissini\,  QC Mistissini\,  QC 
SUMMARY:Board Council March
DESCRIPTION: \nhttps://cngov.ca/events/board-council-march-3/
URL:https://cngov.ca/events/board-council-march-3/
END:VEVENT
END:VCALENDAR