BEGIN:VCALENDAR
VERSION:2.0
PRODID:-//eventon.com NONSGML v1.0//EN
BEGIN:VEVENT
UID:69e4ffe1b6fb4
DTSTAMP:20260419T121633
DTSTART:20240828T003000Z
DTEND:20240827T203000Z
TZID:America/Montreal
LOCATION:Forestel Forestel\,  1001 3e Avenue Est\,  Val-d'Or\,  QC J9P 0J7
SUMMARY:Regional Meeting on Local Government Buildings' Management
DESCRIPTION: \nhttps://cngov.ca/events/regional-meeting-on-local-government-buildings-management/
URL:https://cngov.ca/events/regional-meeting-on-local-government-buildings-management/
END:VEVENT
END:VCALENDAR