BEGIN:VCALENDAR
VERSION:2.0
PRODID:-//eventon.com NONSGML v1.0//EN
BEGIN:VEVENT
UID:69e6472a040c3
DTSTAMP:20260420T113258
DTSTART:20231024T130000Z
DTEND:20231026T210000Z
TZID:America/Montreal
LOCATION:Eastmain Eastmain\,  Quebec J0M 1W0
SUMMARY:Annual General Assembly
DESCRIPTION: 49th Annual General Assembly of the Grand Council of the Crees (Eeyou Istchee) and the 46th Annual General Assembly of the Cree Nation Government.\nhttps://cngov.ca/events/annual-general-assembly-2023/
URL:https://cngov.ca/events/annual-general-assembly-2023/
END:VEVENT
END:VCALENDAR