BEGIN:VCALENDAR
VERSION:2.0
PRODID:-//eventon.com NONSGML v1.0//EN
BEGIN:VEVENT
UID:69e68b80bb8cf
DTSTAMP:20260420T162432
DTSTART:20221026
DTEND:20221028
TZID:America/New_York
LOCATION:Quebec City 
SUMMARY:Board Council October
DESCRIPTION: Meeting of the Board of Grand Council of the Crees (Eeyou Istchee) and the Council of the Cree Nation Government.\nhttps://cngov.ca/events/board-council-october/
URL:https://cngov.ca/events/board-council-october/
END:VEVENT
END:VCALENDAR