BEGIN:VCALENDAR
VERSION:2.0
PRODID:-//eventon.com NONSGML v1.0//EN
BEGIN:VEVENT
UID:69e7d2db2f3c2
DTSTAMP:20260421T154115
DTSTART:20210331T170000Z
DTEND:20210331T190000Z
TZID:UTC
LOCATION:Virtual Event Online 
SUMMARY:COVID-19 Q&A
DESCRIPTION: Please join us Wednesday\,  March 31st\,  2021 at 5:00 pm for a Livestream Q&A on the COVID-19 variants\,  vaccines and Goose Break. Panelists include: Grand Chief Abel Bosum Bertie Wapachee\,  CBHSSJB Chairperson Dr. Marie-Jo Ouimet\,  Director of Public Health Dr. Justin Ross\,  Public Health Physician\,  Mistissini Dany Gauthier\,  Assistant Director[..]\nhttps://cngov.ca/events/covid-19-qa/
URL:https://cngov.ca/events/covid-19-qa/
END:VEVENT
END:VCALENDAR