BEGIN:VCALENDAR
VERSION:2.0
PRODID:-//eventon.com NONSGML v1.0//EN
BEGIN:VEVENT
UID:69e700e6d7f35
DTSTAMP:20260421T004526
DTSTART:20211207
DTEND:20211209
TZID:UTC
LOCATION:Virtual Event Online 
SUMMARY:Board Council December
DESCRIPTION: Meeting of the Board of Grand Council of the Crees (Eeyou Istchee) and the Council of the Cree Nation Government.\nhttps://cngov.ca/fr/events/board-council-december-2/
URL:https://cngov.ca/fr/events/board-council-december-2/
END:VEVENT
END:VCALENDAR