BEGIN:VCALENDAR
VERSION:2.0
PRODID:-//eventon.com NONSGML v1.0//EN
BEGIN:VEVENT
UID:69ea802c28357
DTSTAMP:20260423T162516
DTSTART:20211209
DTEND:20211211
TZID:Pacific/Midway
LOCATION:Virtual Event Online 
SUMMARY:Board Council December
DESCRIPTION: Meeting of the Board of Grand Council of the Crees (Eeyou Istchee) and the Council of the Cree Nation Government. &nbsp;\nhttps://cngov.ca/events/board-council-november-3/
URL:https://cngov.ca/events/board-council-november-3/
END:VEVENT
END:VCALENDAR